BEGIN:VCALENDAR
VERSION:2.0
PRODID:www.ieeecss.org
X-PUBLISHED-TTL:P1W
BEGIN:VEVENT
UID:69e731296cf98
DTSTART:20040602T153000Z
SEQUENCE:0
TRANSP:OPAQUE
DTEND:20040604T153000Z
SUMMARY:Mathematical Problems in Engineering and Aerospace Sciences
CLASS:PUBLIC
DTSTAMP:20260421T031121Z
END:VEVENT
END:VCALENDAR