BEGIN:VCALENDAR
VERSION:2.0
PRODID:www.ieeecss.org
X-PUBLISHED-TTL:P1W
BEGIN:VEVENT
UID:69e72f52e50e1
DTSTART:20040902T173000Z
SEQUENCE:0
TRANSP:OPAQUE
DTEND:20040904T173000Z
SUMMARY:Computer Aided Control Systems Design
CLASS:PUBLIC
DTSTAMP:20260421T030330Z
END:VEVENT
END:VCALENDAR