BEGIN:VCALENDAR
VERSION:2.0
PRODID:www.ieeecss.org
X-PUBLISHED-TTL:P1W
BEGIN:VEVENT
UID:69e75890b806d
DTSTART:20260527T110000Z
SEQUENCE:0
TRANSP:OPAQUE
DTEND:20260529T110000Z
SUMMARY:2026 American Control Conference
CLASS:PUBLIC
DTSTAMP:20260421T055928Z
END:VEVENT
END:VCALENDAR