BEGIN:VCALENDAR
VERSION:2.0
PRODID:www.ieeecss.org
X-PUBLISHED-TTL:P1W
BEGIN:VEVENT
UID:69eb7739da19e
DTSTART:20261215T193000Z
SEQUENCE:0
TRANSP:OPAQUE
DTEND:20261218T193000Z
SUMMARY:65th IEEE Conference on Decision and Control
CLASS:PUBLIC
DTSTAMP:20260424T085921Z
END:VEVENT
END:VCALENDAR