BEGIN:VCALENDAR
VERSION:2.0
PRODID:www.ieeecss.org
X-PUBLISHED-TTL:P1W
BEGIN:VEVENT
UID:69eb76eb50251
DTSTART:20260812T193000Z
SEQUENCE:0
TRANSP:OPAQUE
DTEND:20260814T193000Z
SUMMARY:Conference on Control Technology and Applications
CLASS:PUBLIC
DTSTAMP:20260424T085803Z
END:VEVENT
END:VCALENDAR